BEGIN:VCALENDAR
VERSION:2.0
PRODID:Spatie calendar-links
BEGIN:VEVENT
UID:ddb45fb6065b0d8f98eed676acfa2ebc
SUMMARY:Die Module von busily.online erklärt - Gruppen-Video Chat
DTSTAMP:20230508T170000Z
DTSTART:20230508T170000Z
DTEND:20230508T183000Z
END:VEVENT
END:VCALENDAR