BEGIN:VCALENDAR
VERSION:2.0
PRODID:Spatie calendar-links
BEGIN:VEVENT
UID:5b935b0cce14beb76828a79db0fd857e
SUMMARY:Billard spielen & spielend Netzwerken
DTSTAMP:20230615T163000Z
DTSTART:20230615T163000Z
DTEND:20230615T193000Z
LOCATION:1 Fachmarktstraße\, Wals\, Salzburg\, &Ouml\;sterreich
END:VEVENT
END:VCALENDAR