BEGIN:VCALENDAR
VERSION:2.0
PRODID:Spatie calendar-links
BEGIN:VEVENT
UID:4c977bdefaa4c5372a481e69925f255a
SUMMARY:Video-Chat - Die eigene Community auf busily.online
DTSTAMP:20230731T170000Z
DTSTART:20230731T170000Z
DTEND:20230731T183000Z
END:VEVENT
END:VCALENDAR