BEGIN:VCALENDAR
VERSION:2.0
PRODID:Spatie calendar-links
BEGIN:VEVENT
UID:99b2cb2e4ffb64b8b6d7596e0aa67380
SUMMARY:Video Chat - busily.online Module und Funktionen
DTSTAMP:20231002T170000Z
DTSTART:20231002T170000Z
DTEND:20231002T183000Z
END:VEVENT
END:VCALENDAR