BEGIN:VCALENDAR
VERSION:2.0
PRODID:Spatie calendar-links
BEGIN:VEVENT
UID:f876345ddbcbcb95588a95ce9ea773b3
SUMMARY:Billard spielen & spielend Netzwerken
DTSTAMP:20231018T163000Z
DTSTART:20231018T163000Z
DTEND:20231018T193000Z
END:VEVENT
END:VCALENDAR