BEGIN:VCALENDAR
VERSION:2.0
PRODID:Spatie calendar-links
BEGIN:VEVENT
UID:eef60e5300ef695220dc4aa3514d052a
SUMMARY:Billard spielen & spielend Netzwerken
DTSTAMP:20240418T170000Z
DTSTART:20240418T170000Z
DTEND:20240418T190000Z
END:VEVENT
END:VCALENDAR