BEGIN:VCALENDAR
VERSION:2.0
PRODID:Spatie calendar-links
BEGIN:VEVENT
UID:18588f11cf44a0f8143bb16daf653b69
SUMMARY:Netzwerken
DTSTAMP:20240306T170000Z
DTSTART:20240306T170000Z
DTEND:20240306T200000Z
END:VEVENT
END:VCALENDAR