BEGIN:VCALENDAR
VERSION:2.0
PRODID:Spatie calendar-links
BEGIN:VEVENT
UID:d030a4cf38de5e2c3ecd2d2afac1f25c
SUMMARY:Netzwerken
DTSTAMP:20240606T170000Z
DTSTART:20240606T170000Z
DTEND:20240606T200000Z
END:VEVENT
END:VCALENDAR