BEGIN:VCALENDAR
VERSION:2.0
PRODID:Spatie calendar-links
BEGIN:VEVENT
UID:3aba46d99cc0e74ade96667aaf59fa78
SUMMARY:Einführung in busily.online
DTSTAMP:20250908T170000Z
DTSTART:20250908T170000Z
DTEND:20250908T180000Z
END:VEVENT
END:VCALENDAR