BEGIN:VCALENDAR
VERSION:2.0
PRODID:Spatie calendar-links
BEGIN:VEVENT
UID:802006ddcd5bb14214906c44ab0521a9
SUMMARY:Einführung in busily.online
DTSTAMP:20250414T170000Z
DTSTART:20250414T170000Z
DTEND:20250414T180000Z
END:VEVENT
END:VCALENDAR