BEGIN:VCALENDAR
VERSION:2.0
PRODID:Spatie calendar-links
BEGIN:VEVENT
UID:5e69909f74fc50aa3164079de9a5c9c4
SUMMARY:Wie man seine eigene Social Community aufbaut
DTSTAMP:20260104T180000Z
DTSTART:20260104T180000Z
DTEND:20260104T190000Z
END:VEVENT
END:VCALENDAR