BEGIN:VCALENDAR
VERSION:2.0
PRODID:Spatie calendar-links
BEGIN:VEVENT
UID:13a50fec7a78921a45ee30b93751b63f
SUMMARY:Die eigene Selbständigkeit planen
DTSTAMP:20251107T160000Z
DTSTART:20251107T160000Z
DTEND:20251107T170000Z
END:VEVENT
END:VCALENDAR