BEGIN:VCALENDAR
VERSION:2.0
PRODID:Spatie calendar-links
BEGIN:VEVENT
UID:6b6b67693b5bf1995ce7fb63a5e4bb2d
SUMMARY: Rundgang durch die Module von busily.online - Gruppen Video Chat
DTSTAMP:20230424T170000Z
DTSTART:20230424T170000Z
DTEND:20230424T183000Z
LOCATION:&Ouml\;sterreich
END:VEVENT
END:VCALENDAR