BEGIN:VCALENDAR
VERSION:2.0
PRODID:Spatie calendar-links
BEGIN:VEVENT
UID:9ac30e650cf04eb1fd95aac0561d1d24
SUMMARY:Netzwerken
DTSTAMP:20230419T160000Z
DTSTART:20230419T160000Z
DTEND:20230419T200000Z
LOCATION:1 Himmelreich\, Salzburg\, Salzburg\, &Ouml\;sterreich
END:VEVENT
END:VCALENDAR